BEGIN:VCALENDAR
VERSION:2.0
PRODID:icalendar-ruby
CALSCALE:GREGORIAN
BEGIN:VEVENT
DTSTAMP:20210119T024423Z
UID:0a5353b1-e97f-41c3-bd2d-5e38f00ce4db
DTSTART;VALUE=DATE:20190825
DESCRIPTION:Property ID# 458057\, Locatoin: On site\, Time: 2:00PM
SUMMARY:Auction for 
END:VEVENT
END:VCALENDAR
