BEGIN:VCALENDAR
VERSION:2.0
PRODID:icalendar-ruby
CALSCALE:GREGORIAN
BEGIN:VEVENT
DTSTAMP:20210119T024426Z
UID:da8c3a6d-f5e5-4719-982e-8670f7f85348
DTSTART;VALUE=DATE:20190818
DESCRIPTION:Property ID# 458092\, Time: 3:00PM
SUMMARY:Auction for 
END:VEVENT
END:VCALENDAR
