BEGIN:VCALENDAR
VERSION:2.0
PRODID:icalendar-ruby
CALSCALE:GREGORIAN
BEGIN:VEVENT
DTSTAMP:20210119T024316Z
UID:9edd9a80-b376-416a-bf80-f7a9450d9624
DTSTART;VALUE=DATE:20190817
DESCRIPTION:Property ID# 459364\, Locatoin: On site (unless sold prior)\, T
 ime: 1:00PM
SUMMARY:Auction for 
END:VEVENT
END:VCALENDAR
