BEGIN:VCALENDAR
VERSION:2.0
PRODID:icalendar-ruby
CALSCALE:GREGORIAN
BEGIN:VEVENT
DTSTAMP:20210119T024419Z
UID:53bee4c1-1fb0-4f42-b5a8-95573721da54
DTSTART;VALUE=DATE:20190922
DESCRIPTION:Property ID# 460766\, Locatoin: On site\, Time: 2:00PM
SUMMARY:Auction for 
END:VEVENT
END:VCALENDAR
