BEGIN:VCALENDAR
VERSION:2.0
PRODID:icalendar-ruby
CALSCALE:GREGORIAN
BEGIN:VEVENT
DTSTAMP:20210119T024418Z
UID:f21621fc-a7aa-4f95-98fe-1e57e45c8350
DTSTART;VALUE=DATE:20190929
DESCRIPTION:Property ID# 461453\, Time: 1:00PM
SUMMARY:Auction for 
END:VEVENT
END:VCALENDAR
