BEGIN:VCALENDAR
VERSION:2.0
PRODID:icalendar-ruby
CALSCALE:GREGORIAN
BEGIN:VEVENT
DTSTAMP:20210121T235551Z
UID:f73341d3-48ad-411a-8f0c-9101be57fe06
DTSTART;VALUE=DATE:20191020
DESCRIPTION:Property ID# 463607\, Time: 12:00PM
SUMMARY:Auction for 
END:VEVENT
END:VCALENDAR
