BEGIN:VCALENDAR
VERSION:2.0
PRODID:icalendar-ruby
CALSCALE:GREGORIAN
BEGIN:VEVENT
DTSTAMP:20210119T024344Z
UID:8060c4ab-55ae-4e68-93d1-dc1eeb812b67
DTSTART;VALUE=DATE:20191117
DESCRIPTION:Property ID# 464557\, Time: 12:00PM
SUMMARY:Auction for 
END:VEVENT
END:VCALENDAR
