BEGIN:VCALENDAR
VERSION:2.0
PRODID:icalendar-ruby
CALSCALE:GREGORIAN
BEGIN:VEVENT
DTSTAMP:20210121T235545Z
UID:956586ab-7133-4ce2-a2a3-6806017608fc
DTSTART;VALUE=DATE:20191124
DESCRIPTION:Property ID# 466491\, Time: 10:00AM
SUMMARY:Auction for 
END:VEVENT
END:VCALENDAR
