BEGIN:VCALENDAR
VERSION:2.0
PRODID:icalendar-ruby
CALSCALE:GREGORIAN
BEGIN:VEVENT
DTSTAMP:20210119T024342Z
UID:29b2e374-a17a-4120-a128-a4ae62835070
DTSTART;VALUE=DATE:20191205
DESCRIPTION:Property ID# 466902\, Locatoin: In Rooms\, Time: 6:30PM
SUMMARY:Auction for 
END:VEVENT
END:VCALENDAR
