BEGIN:VCALENDAR
VERSION:2.0
PRODID:icalendar-ruby
CALSCALE:GREGORIAN
BEGIN:VEVENT
DTSTAMP:20210119T024310Z
UID:744fa181-2dc6-4cd1-89d4-eef98b46ea39
DTSTART;VALUE=DATE:20200220
DESCRIPTION:Property ID# 471312\, Locatoin: 6.30pm\, In Rooms\, 128 Hurstme
 re Road\, Takapuna (unless sold prior)\, Time: 12:00PM
SUMMARY:Auction for 
END:VEVENT
END:VCALENDAR
