BEGIN:VCALENDAR
VERSION:2.0
PRODID:icalendar-ruby
CALSCALE:GREGORIAN
BEGIN:VEVENT
DTSTAMP:20210119T024407Z
UID:15438284-d28a-49c4-b3bc-701e1eb8ff5e
DTSTART;VALUE=DATE:20200223
DESCRIPTION:Property ID# 471789\, Time: 4:00PM
SUMMARY:Auction for 
END:VEVENT
END:VCALENDAR
