BEGIN:VCALENDAR
VERSION:2.0
PRODID:icalendar-ruby
CALSCALE:GREGORIAN
BEGIN:VEVENT
DTSTAMP:20210119T024338Z
UID:14db6757-3db7-400c-9322-bc9af48dea27
DTSTART;VALUE=DATE:20200301
DESCRIPTION:Property ID# 472644\, Time: 5:00PM
SUMMARY:Auction for 
END:VEVENT
END:VCALENDAR
