BEGIN:VCALENDAR
VERSION:2.0
PRODID:icalendar-ruby
CALSCALE:GREGORIAN
BEGIN:VEVENT
DTSTAMP:20210119T024405Z
UID:fb2b4956-c40f-483b-b48e-11c220f3bf0f
DTSTART;VALUE=DATE:20200315
DESCRIPTION:Property ID# 473802\, Time: 3:00PM
SUMMARY:Auction for 
END:VEVENT
END:VCALENDAR
