BEGIN:VCALENDAR
VERSION:2.0
PRODID:icalendar-ruby
CALSCALE:GREGORIAN
BEGIN:VEVENT
DTSTAMP:20210119T024336Z
UID:bfae3761-74d2-40e8-bbe7-45440f9a4a8c
DTSTART;VALUE=DATE:20200322
DESCRIPTION:Property ID# 474791\, Time: 4:00PM
SUMMARY:Auction for 
END:VEVENT
END:VCALENDAR
