BEGIN:VCALENDAR
VERSION:2.0
PRODID:icalendar-ruby
CALSCALE:GREGORIAN
BEGIN:VEVENT
DTSTAMP:20210121T235511Z
UID:7d4f5a7e-8445-44a4-935d-dc699db3a367
DTSTART;VALUE=DATE:20200524
DESCRIPTION:Property ID# 476948\, Locatoin: On site (unless sold prior)\, T
 ime: 11:00AM
SUMMARY:Auction for 
END:VEVENT
END:VCALENDAR
