BEGIN:VCALENDAR
VERSION:2.0
PRODID:icalendar-ruby
CALSCALE:GREGORIAN
BEGIN:VEVENT
DTSTAMP:20210119T024329Z
UID:5590026d-3291-4578-b32d-ae2471120107
DTSTART;VALUE=DATE:20200621
DESCRIPTION:Property ID# 482017\, Locatoin: On Site\, Time: 4:00PM
SUMMARY:Auction for 
END:VEVENT
END:VCALENDAR
