BEGIN:VCALENDAR
VERSION:2.0
PRODID:icalendar-ruby
CALSCALE:GREGORIAN
BEGIN:VEVENT
DTSTAMP:20210119T024325Z
UID:26812609-64a1-427d-951c-095387b34f05
DTSTART;VALUE=DATE:20200702
DESCRIPTION:Property ID# 482719\, Time: 6:30PM
SUMMARY:Auction for 
END:VEVENT
END:VCALENDAR
