BEGIN:VCALENDAR
VERSION:2.0
PRODID:icalendar-ruby
CALSCALE:GREGORIAN
BEGIN:VEVENT
DTSTAMP:20210119T024304Z
UID:e33b6278-ec5f-4b16-a075-9b4ec4d7e7d5
DTSTART;VALUE=DATE:20200628
DESCRIPTION:Property ID# 482768\, Locatoin: On Site\, Time: 3:00PM
SUMMARY:Auction for 
END:VEVENT
END:VCALENDAR
