BEGIN:VCALENDAR
VERSION:2.0
PRODID:icalendar-ruby
CALSCALE:GREGORIAN
BEGIN:VEVENT
DTSTAMP:20210119T024335Z
UID:9de5fb7f-b120-4b0d-ad16-6e68c0cb5740
DTSTART;VALUE=DATE:20200719
DESCRIPTION:Property ID# 483669\, Time: 4:30PM
SUMMARY:Auction for 
END:VEVENT
END:VCALENDAR
