BEGIN:VCALENDAR
VERSION:2.0
PRODID:icalendar-ruby
CALSCALE:GREGORIAN
BEGIN:VEVENT
DTSTAMP:20210119T024429Z
UID:8489af86-d9bd-48a9-9166-c72b921fa41a
DTSTART;VALUE=DATE:20200712
DESCRIPTION:Property ID# 483710\, Time: 1:00PM
SUMMARY:Auction for 
END:VEVENT
END:VCALENDAR
