BEGIN:VCALENDAR
VERSION:2.0
PRODID:icalendar-ruby
CALSCALE:GREGORIAN
BEGIN:VEVENT
DTSTAMP:20210121T235508Z
UID:fa550af2-aed0-433e-b236-b85e76b6097f
DTSTART;VALUE=DATE:20200816
DESCRIPTION:Property ID# 486050\, Locatoin: On site (unless sold prior)\, T
 ime: 2:00PM
SUMMARY:Auction for 
END:VEVENT
END:VCALENDAR
