BEGIN:VCALENDAR
VERSION:2.0
PRODID:icalendar-ruby
CALSCALE:GREGORIAN
BEGIN:VEVENT
DTSTAMP:20210119T024428Z
UID:ce08e553-f9f9-4791-b020-790d395ec4a3
DTSTART;VALUE=DATE:20200820
DESCRIPTION:Property ID# 486190\, Locatoin: Harcourts Takapuna\, Time: 6:30
 PM
SUMMARY:Auction for 
END:VEVENT
END:VCALENDAR
