BEGIN:VCALENDAR
VERSION:2.0
PRODID:icalendar-ruby
CALSCALE:GREGORIAN
BEGIN:VEVENT
DTSTAMP:20210119T024402Z
UID:01a88554-a59f-4493-9f93-38ed87d83895
DTSTART;VALUE=DATE:20200927
DESCRIPTION:Property ID# 488772\, Time: 1:00PM
SUMMARY:Auction for 
END:VEVENT
END:VCALENDAR
