BEGIN:VCALENDAR
VERSION:2.0
PRODID:icalendar-ruby
CALSCALE:GREGORIAN
BEGIN:VEVENT
DTSTAMP:20210119T024301Z
UID:8c2fc0ed-6e5c-404d-99dd-e5359615befc
DTSTART;VALUE=DATE:20201004
DESCRIPTION:Property ID# 489803\, Locatoin: On site (unless sold prior)\, T
 ime: 4:00PM
SUMMARY:Auction for 
END:VEVENT
END:VCALENDAR
