BEGIN:VCALENDAR
VERSION:2.0
PRODID:icalendar-ruby
CALSCALE:GREGORIAN
BEGIN:VEVENT
DTSTAMP:20210119T024442Z
UID:857fa03a-2196-487a-bf38-4e91923067c5
DTSTART;VALUE=DATE:20201022
DESCRIPTION:Property ID# 491058\, Locatoin: Bruce Mason Centre\, Takapuna\,
  Time: 10:00AM
SUMMARY:Auction for 
END:VEVENT
END:VCALENDAR
