BEGIN:VCALENDAR
VERSION:2.0
PRODID:icalendar-ruby
CALSCALE:GREGORIAN
BEGIN:VEVENT
DTSTAMP:20210121T235654Z
UID:90607e85-1c08-41bc-9ddc-1544e32f6d08
DTSTART;VALUE=DATE:20201029
DESCRIPTION:Property ID# 492038\, Locatoin: Bruce Mason Centre\, Takapuna\,
  Time: 10:00AM
SUMMARY:Auction for 
END:VEVENT
END:VCALENDAR
