BEGIN:VCALENDAR
VERSION:2.0
PRODID:icalendar-ruby
CALSCALE:GREGORIAN
BEGIN:VEVENT
DTSTAMP:20210119T024259Z
UID:1c6471a6-c1c9-4c0b-8a0a-ab9456ebd89d
DTSTART;VALUE=DATE:20201115
DESCRIPTION:Property ID# 493137\, Locatoin: On site (unless sold prior)\, T
 ime: 4:00PM
SUMMARY:Auction for 
END:VEVENT
END:VCALENDAR
