BEGIN:VCALENDAR
VERSION:2.0
PRODID:icalendar-ruby
CALSCALE:GREGORIAN
BEGIN:VEVENT
DTSTAMP:20210119T024447Z
UID:ebaf7d74-fc28-461f-96f9-ed66b0d23f9b
DTSTART;VALUE=DATE:20201203
DESCRIPTION:Property ID# 495380\, Locatoin: Bruce Mason Centre\, Takapuna\,
  Time: 10:00AM
SUMMARY:Auction for 
END:VEVENT
END:VCALENDAR
