BEGIN:VCALENDAR
VERSION:2.0
PRODID:icalendar-ruby
CALSCALE:GREGORIAN
BEGIN:VEVENT
DTSTAMP:20210119T024331Z
UID:1966f130-a73c-4599-b65a-b88bfa5ac603
DTSTART;VALUE=DATE:20201210
DESCRIPTION:Property ID# 495970\, Time: 12:00PM
SUMMARY:Auction for 
END:VEVENT
END:VCALENDAR
