BEGIN:VCALENDAR
VERSION:2.0
PRODID:icalendar-ruby
CALSCALE:GREGORIAN
BEGIN:VEVENT
DTSTAMP:20210119T024258Z
UID:52843be2-84c1-41d9-975a-219848da2f7b
DTSTART;VALUE=DATE:20201213
DESCRIPTION:Property ID# 497358\, Locatoin: On Site at 4pm.\, Time: 4:00PM
SUMMARY:Auction for 
END:VEVENT
END:VCALENDAR
