BEGIN:VCALENDAR
VERSION:2.0
PRODID:icalendar-ruby
CALSCALE:GREGORIAN
BEGIN:VEVENT
DTSTAMP:20210119T024436Z
UID:4dfbd14b-d4af-4e7c-ac6f-16df39dd8d42
DTSTART;VALUE=DATE:20210204
DESCRIPTION:Property ID# 499270\, Locatoin: Bruce Mason Centre\, Takapuna\,
  Time: 10:00AM
SUMMARY:Auction for 
END:VEVENT
END:VCALENDAR
