BEGIN:VCALENDAR
VERSION:2.0
PRODID:icalendar-ruby
CALSCALE:GREGORIAN
BEGIN:VEVENT
DTSTAMP:20210121T234555Z
UID:69e72613-de8e-4d6b-a8d7-daf56ea8e059
DTSTART;VALUE=DATE:20210203
DESCRIPTION:Property ID# 499740\, Locatoin: On Site at 5.30pm.\, Time: 5:30
 PM
SUMMARY:Auction for 
END:VEVENT
END:VCALENDAR
