BEGIN:VCALENDAR
VERSION:2.0
PRODID:icalendar-ruby
CALSCALE:GREGORIAN
BEGIN:VEVENT
DTSTAMP:20210121T234551Z
UID:7f8731a4-6146-4c21-aac1-a450ab64a467
DTSTART;VALUE=DATE:20210411
DESCRIPTION:Property ID# 499821\, Locatoin: In rooms Harcourts\, 128 Hurstm
 ere Road Takapuna\, Time: 6:30AM
SUMMARY:Auction for 
END:VEVENT
END:VCALENDAR
