BEGIN:VCALENDAR
VERSION:2.0
PRODID:icalendar-ruby
CALSCALE:GREGORIAN
BEGIN:VEVENT
DTSTAMP:20210121T234543Z
UID:dd549406-9674-44ca-9493-ec969b149319
DTSTART;VALUE=DATE:20210210
DESCRIPTION:Property ID# 500207\, Locatoin: On Site\, Time: 5:30AM
SUMMARY:Auction for 3 Intrepid Place 
END:VEVENT
END:VCALENDAR
