BEGIN:VCALENDAR
VERSION:2.0
PRODID:icalendar-ruby
CALSCALE:GREGORIAN
BEGIN:VEVENT
DTSTAMP:20210121T234549Z
UID:ded4b06b-45a3-4a6d-95d5-d17bae28fecb
DTSTART;TZID=Pacific/Auckland:20210123T113000
DTEND;TZID=Pacific/Auckland:20210123T120000
DESCRIPTION:Property ID# 499821
SUMMARY:Openhome for 
END:VEVENT
END:VCALENDAR
