BEGIN:VCALENDAR
VERSION:2.0
PRODID:icalendar-ruby
CALSCALE:GREGORIAN
BEGIN:VEVENT
DTSTAMP:20210121T234553Z
UID:b4dc01ee-1952-495f-9339-fe146b696085
DTSTART;TZID=Pacific/Auckland:20210123T123000
DTEND;TZID=Pacific/Auckland:20210123T130000
DESCRIPTION:Property ID# 499740
SUMMARY:Openhome for 
END:VEVENT
END:VCALENDAR
