BEGIN:VCALENDAR
VERSION:2.0
PRODID:icalendar-ruby
CALSCALE:GREGORIAN
BEGIN:VEVENT
DTSTAMP:20210121T234540Z
UID:17afb5f9-49e7-412e-911d-dd5d2021edfb
DTSTART;TZID=Pacific/Auckland:20210123T140000
DTEND;TZID=Pacific/Auckland:20210123T143000
DESCRIPTION:Property ID# 500207
SUMMARY:Openhome for 3 Intrepid Place 
END:VEVENT
END:VCALENDAR
