BEGIN:VCALENDAR
VERSION:2.0
PRODID:icalendar-ruby
CALSCALE:GREGORIAN
BEGIN:VEVENT
DTSTAMP:20260421T030837Z
UID:40895366-0c44-453b-9583-a28416734177
DTSTART;VALUE=DATE:20191110
DESCRIPTION:Property ID# 464491\, Locatoin: On Site\, Time: 12:00PM
SUMMARY:Auction for 
END:VEVENT
END:VCALENDAR
