BEGIN:VCALENDAR
VERSION:2.0
PRODID:icalendar-ruby
CALSCALE:GREGORIAN
BEGIN:VEVENT
DTSTAMP:20260423T043204Z
UID:c152f830-69a7-4d0e-9cf4-da7a1d915794
DTSTART;VALUE=DATE:20191208
DESCRIPTION:Property ID# 467673\, Time: 12:00PM
SUMMARY:Auction for 
END:VEVENT
END:VCALENDAR
