BEGIN:VCALENDAR
VERSION:2.0
PRODID:icalendar-ruby
CALSCALE:GREGORIAN
BEGIN:VEVENT
DTSTAMP:20260421T004312Z
UID:597a5595-60a5-41db-a78a-731f6d9e7a14
DTSTART;VALUE=DATE:20200329
DESCRIPTION:Property ID# 475641\, Locatoin: On Site\, Time: 12:00PM
SUMMARY:Auction for 
END:VEVENT
END:VCALENDAR
