BEGIN:VCALENDAR
VERSION:2.0
PRODID:icalendar-ruby
CALSCALE:GREGORIAN
BEGIN:VEVENT
DTSTAMP:20260421T031100Z
UID:82df5b63-b2a3-4679-a443-75b06af9036b
DTSTART;VALUE=DATE:20200917
DESCRIPTION:Property ID# 487941\, Locatoin: In Rooms Harcourts Takapuna\, T
 ime: 6:30PM
SUMMARY:Auction for 
END:VEVENT
END:VCALENDAR
