BEGIN:VCALENDAR
VERSION:2.0
PRODID:icalendar-ruby
CALSCALE:GREGORIAN
BEGIN:VEVENT
DTSTAMP:20260421T031206Z
UID:41e05a88-5a94-4140-b541-1d5709d96f6d
DTSTART;VALUE=DATE:20201220
DESCRIPTION:Property ID# 491858\, Locatoin: On Site\, Time: 11:00AM
SUMMARY:Auction for 
END:VEVENT
END:VCALENDAR
