BEGIN:VCALENDAR
VERSION:2.0
PRODID:icalendar-ruby
CALSCALE:GREGORIAN
BEGIN:VEVENT
DTSTAMP:20260423T043840Z
UID:5c770d3a-9244-4d06-8779-669ade51ad18
DTSTART;VALUE=DATE:20201119
DESCRIPTION:Property ID# 493610\, Time: 6:30PM
SUMMARY:Auction for 
END:VEVENT
END:VCALENDAR
