BEGIN:VCALENDAR
VERSION:2.0
PRODID:icalendar-ruby
CALSCALE:GREGORIAN
BEGIN:VEVENT
DTSTAMP:20260421T030703Z
UID:df8858ba-c085-4d17-9dba-9279e424b948
DTSTART;VALUE=DATE:20201217
DESCRIPTION:Property ID# 497341\, Time: 6:30PM
SUMMARY:Auction for 
END:VEVENT
END:VCALENDAR
