BEGIN:VCALENDAR
VERSION:2.0
PRODID:icalendar-ruby
CALSCALE:GREGORIAN
BEGIN:VEVENT
DTSTAMP:20260424T020448Z
UID:3d62d6b9-d333-4fac-a61d-84077bd35a67
DTSTART;VALUE=DATE:20210522
DESCRIPTION:Property ID# 505486\, Locatoin: On site (unless sold prior)\, T
 ime: 12:00PM
SUMMARY:Auction for 
END:VEVENT
END:VCALENDAR
