BEGIN:VCALENDAR
VERSION:2.0
PRODID:icalendar-ruby
CALSCALE:GREGORIAN
BEGIN:VEVENT
DTSTAMP:20260424T020647Z
UID:b2b957b8-0242-4f91-8fa4-1794f75119c0
DTSTART;VALUE=DATE:20210609
DESCRIPTION:Property ID# 505705\, Locatoin: On-Site BROUGHT FORWARD\, Time:
  6:00PM
SUMMARY:Auction for 
END:VEVENT
END:VCALENDAR
