BEGIN:VCALENDAR
VERSION:2.0
PRODID:icalendar-ruby
CALSCALE:GREGORIAN
BEGIN:VEVENT
DTSTAMP:20260421T031001Z
UID:27734f0c-d532-40ac-93f1-116a67b997cf
DTSTART;VALUE=DATE:20210413
DESCRIPTION:Property ID# 506708\, Locatoin: On Site\, Time: 6:00PM
SUMMARY:Auction for 
END:VEVENT
END:VCALENDAR
