BEGIN:VCALENDAR
VERSION:2.0
PRODID:icalendar-ruby
CALSCALE:GREGORIAN
BEGIN:VEVENT
DTSTAMP:20260421T030632Z
UID:7753b393-7962-4851-b70f-b706fff2d91e
DTSTART;VALUE=DATE:20210530
DESCRIPTION:Property ID# 509493\, Locatoin: On Site\, Time: 1:00AM
SUMMARY:Auction for 
END:VEVENT
END:VCALENDAR
