BEGIN:VCALENDAR
VERSION:2.0
PRODID:icalendar-ruby
CALSCALE:GREGORIAN
BEGIN:VEVENT
DTSTAMP:20260423T042109Z
UID:6a85af60-db9b-4293-b075-b21da0a0d5ab
DTSTART;VALUE=DATE:20210619
DESCRIPTION:Property ID# 510200\, Time: 12:00PM
SUMMARY:Auction for 
END:VEVENT
END:VCALENDAR
