BEGIN:VCALENDAR
VERSION:2.0
PRODID:icalendar-ruby
CALSCALE:GREGORIAN
BEGIN:VEVENT
DTSTAMP:20260421T040406Z
UID:2cf87491-99e7-400b-a9e3-8c3ac74a02d5
DTSTART;VALUE=DATE:20210807
DESCRIPTION:Property ID# 514946\, Locatoin: On Site\, Time: 2:00PM
SUMMARY:Auction for 
END:VEVENT
END:VCALENDAR
